BEGIN:VCALENDAR
VERSION:2.0
PRODID:-//PAX CHRISTI MAINE - ECPv6.15.20//NONSGML v1.0//EN
CALSCALE:GREGORIAN
METHOD:PUBLISH
X-WR-CALNAME:PAX CHRISTI MAINE
X-ORIGINAL-URL:https://paxchristi-maine.org
X-WR-CALDESC:Events for PAX CHRISTI MAINE
REFRESH-INTERVAL;VALUE=DURATION:PT1H
X-Robots-Tag:noindex
X-PUBLISHED-TTL:PT1H
BEGIN:VTIMEZONE
TZID:UTC
BEGIN:STANDARD
TZOFFSETFROM:+0000
TZOFFSETTO:+0000
TZNAME:UTC
DTSTART:20230101T000000
END:STANDARD
END:VTIMEZONE
BEGIN:VEVENT
DTSTART;TZID=UTC:20250227T190000
DTEND;TZID=UTC:20250227T201500
DTSTAMP:20260425T131537
CREATED:20250208T235833Z
LAST-MODIFIED:20250219T154907Z
UID:3353-1740682800-1740687300@paxchristi-maine.org
SUMMARY:Pax Christi Community Conversations
DESCRIPTION:Pax Christi Community Conversations \nThursday February 27\, 2025 7:00-8:15 pm (zoom) \nJoin us! \nWe will gather again this month as a faith community for sharing and discussion. Our very own\, Denny Dreher has graciously agreed to lead us this month. Denny offers the following homily for reflection by Jessica Sun\, who serves on the leadership team for the PCUSA Young Adult Caucus. \nhttps://paxchristiusa.org/2025/02/07/on-apocalypse-a-reflection/ \nJessica’s homily provides very rich content along with many references to expand our understanding. \nFor our discussion\, Denny suggests we consider the following questions … \n\nUpon reflection\, does anything resonate with your own experience of concern\, fear\, anxiety related to current events in our country\, in our world?\nWhat spiritual practices or coping strategies help you to feel centered\, elicit hopefulness and/or foster a new perspective?\n\nAs Catholic Christians\, we are called to be People of the Resurrection! How do we live that call? \nPlease contact Mary Ellen by February 26th to receive a zoom link – \nmemquinn@peoplepc.com  \n 
URL:https://paxchristi-maine.org/event/pax-christi-community-conversations/
LOCATION:Zoom
ORGANIZER;CN="Pax Christi Maine":MAILTO:memquinn@peoplepc.com
END:VEVENT
BEGIN:VEVENT
DTSTART;TZID=UTC:20250130T190000
DTEND;TZID=UTC:20250130T201500
DTSTAMP:20260425T131537
CREATED:20250121T224904Z
LAST-MODIFIED:20250121T224904Z
UID:3324-1738263600-1738268100@paxchristi-maine.org
SUMMARY:Pax Christi Maine Community Conversations
DESCRIPTION:
URL:https://paxchristi-maine.org/event/pax-christi-maine-community-conversations/
LOCATION:Zoom
ORGANIZER;CN="Pax Christi Maine":MAILTO:memquinn@peoplepc.com
END:VEVENT
BEGIN:VEVENT
DTSTART;TZID=UTC:20250111T130000
DTEND;TZID=UTC:20250111T140000
DTSTAMP:20260425T131537
CREATED:20241230T181003Z
LAST-MODIFIED:20241230T225312Z
UID:3294-1736600400-1736604000@paxchristi-maine.org
SUMMARY:Close Guantanamo Vigil and Rally
DESCRIPTION:Please join us to vigil and rally on Saturday\, January 11\, 2025 at 1:00 -2:00\, to mark the 23rd year anniversary of the Guantanamo Bay prison. We will vigil in front of the Augusta National Guard Armory\, at the intersection of Route 202 and Armory Street\, and then rally with speakers\, singers and more. \nContact Mary Kate Small  marykatespeace@yahoo.com for more information. \nSnow date:  Sun\, January 12\, same time and place
URL:https://paxchristi-maine.org/event/close-guantanamo-vigil-and-rally/
LOCATION:Augusta National Guard Armory\, 179 Western Ave\, Augusta\, ME\, United States
END:VEVENT
BEGIN:VEVENT
DTSTART;TZID=UTC:20241215T170000
DTEND;TZID=UTC:20241215T180000
DTSTAMP:20260425T131537
CREATED:20241015T150010Z
LAST-MODIFIED:20241015T150010Z
UID:3224-1734282000-1734285600@paxchristi-maine.org
SUMMARY:Gaudete Sunday Celebration
DESCRIPTION:Join with Pax Christi members to celebrate the joy of Gaudete Sunday.  We will share song\, prayers\, poems\, and thoughts.  Watch for a flyer coming soon!
URL:https://paxchristi-maine.org/event/gaudete-sunday-celebration/
LOCATION:Zoom
ORGANIZER;CN="Pax Christi Maine":MAILTO:memquinn@peoplepc.com
END:VEVENT
BEGIN:VEVENT
DTSTART;VALUE=DATE:20241130
DTEND;VALUE=DATE:20241222
DTSTAMP:20260425T131537
CREATED:20241015T144656Z
LAST-MODIFIED:20241015T145348Z
UID:3218-1732924800-1734825599@paxchristi-maine.org
SUMMARY:Advent Vigil for Disarmament
DESCRIPTION:Save the date – details to come.  These vigils will take place on November 30\, December 7\, 14\, and 21.  All vigils will happen between 11:30 am and 12:30 pm.
URL:https://paxchristi-maine.org/event/advent-vigil-for-disarmament/
LOCATION:Bath Iron Works\, 580 Washington St\, Bath\, ME\, 04530\, United States
END:VEVENT
BEGIN:VEVENT
DTSTART;TZID=UTC:20240928T090000
DTEND;TZID=UTC:20240928T150000
DTSTAMP:20260425T131537
CREATED:20240703T205151Z
LAST-MODIFIED:20240816T151444Z
UID:3072-1727514000-1727535600@paxchristi-maine.org
SUMMARY:Living Peace\, Practicing Nonviolence
DESCRIPTION:Fr. John Dear will present on Living Peace\, Practicing Nonviolence: Lessons of Jesus\, Gandhi and King at St. Joseph’s College in Standish on Saturday\, September 28\, 2024 from 9 a.m. – 3 p.m.  Pax Christi Maine is a co-sponsor. For registration information\, please follow this link: https://unitygreaterportland.org/living-peace-practicing-nonviolence/ \nDownload the flyer here
URL:https://paxchristi-maine.org/event/living-peace-practicing-nonviolence/
LOCATION:St. Joseph’s College\, Standish\, ME\, United States
ORGANIZER;CN="Pax Christi Maine":MAILTO:memquinn@peoplepc.com
END:VEVENT
BEGIN:VEVENT
DTSTART;TZID=UTC:20240921T150000
DTEND;TZID=UTC:20240921T173000
DTSTAMP:20260425T131537
CREATED:20240703T204744Z
LAST-MODIFIED:20240703T204744Z
UID:3069-1726930800-1726939800@paxchristi-maine.org
SUMMARY:Maine Peace Education Initiative
DESCRIPTION:Newly formed coalition (includes PCM) is hosting a peace education event on Saturday\, Sept. 21\, 2024 (UN International Day of Peace) at the Common Ground Fair in Unity from 3:00 – 5:30pm at the Social Action tent. This is part of Campaign Nonviolence. Speakers include Rob Shetterly – Americans Who Tell the Truth; Rivera Sun – Pace e Bene; Doug Rawlings – VFP and more.
URL:https://paxchristi-maine.org/event/maine-peace-education-initiative/
LOCATION:Common Ground Fair – Social Action Tent\, Unity\, ME\, United States
END:VEVENT
BEGIN:VEVENT
DTSTART;TZID=UTC:20240817T093000
DTEND;TZID=UTC:20240817T153000
DTSTAMP:20260425T131537
CREATED:20240703T204418Z
LAST-MODIFIED:20240703T204418Z
UID:3066-1723887000-1723908600@paxchristi-maine.org
SUMMARY:Pax Christi Maine Assembly Part 2
DESCRIPTION:Saturday\, August 17\, 2024 from 9:30am-3:30pm in St Monica’s Hall adjacent to St Augustine Church in Augusta. There will be prayer\, music\, Taize chant\, scripture reflections\, silence\, small group sharing focusing on remaining centered in the practice of Christian nonviolence in midst of global wars\, genocide\, threats to our democracy.
URL:https://paxchristi-maine.org/event/pax-christi-maine-assembly-part-2/
LOCATION:St. Monica’s Hall\, Augusta\, ME\, United States
END:VEVENT
BEGIN:VEVENT
DTSTART;TZID=UTC:20240806T120000
DTEND;TZID=UTC:20240806T133000
DTSTAMP:20260425T131537
CREATED:20240703T203435Z
LAST-MODIFIED:20240703T203435Z
UID:3062-1722945600-1722951000@paxchristi-maine.org
SUMMARY:Hiroshima Commemoration and Call for Nuclear Disarmament
DESCRIPTION:Tuesday\, August 6\, 2024 from 12:00-1:30pm at Peirce Park (next to library) in Bangor sponsored by Peace & Justice Center of Eastern Maine; co-sponsors include Pax Christi Maine and others. There will be speakers and music. Bring relevant signs and banners.
URL:https://paxchristi-maine.org/event/hiroshima-commemoration-and-call-for-nuclear-disarmament/
LOCATION:Peirce Park\, Augusta\, ME\, United States
END:VEVENT
END:VCALENDAR