BEGIN:VCALENDAR
VERSION:2.0
PRODID:-//PAX CHRISTI MAINE - ECPv6.15.20//NONSGML v1.0//EN
CALSCALE:GREGORIAN
METHOD:PUBLISH
X-ORIGINAL-URL:https://paxchristi-maine.org
X-WR-CALDESC:Events for PAX CHRISTI MAINE
REFRESH-INTERVAL;VALUE=DURATION:PT1H
X-Robots-Tag:noindex
X-PUBLISHED-TTL:PT1H
BEGIN:VTIMEZONE
TZID:UTC
BEGIN:STANDARD
TZOFFSETFROM:+0000
TZOFFSETTO:+0000
TZNAME:UTC
DTSTART:20250101T000000
END:STANDARD
END:VTIMEZONE
BEGIN:VEVENT
DTSTART;TZID=UTC:20260530T150000
DTEND;TZID=UTC:20260530T183000
DTSTAMP:20260425T131159
CREATED:20260420T134749Z
LAST-MODIFIED:20260424T125914Z
UID:3636-1780153200-1780165800@paxchristi-maine.org
SUMMARY:Pax Christi Maine Spring Assembly
DESCRIPTION:Join us at our spring assembly annual meeting from 3:00 – 6:30. \n  \nAt 4:30\, we will welcome Paul K. Chappell of the Peace Literacy Institute.  Paul will speak on the theme of “Empowering Ourselves and Others for the Journey Toward Peace”.  All are welcome! \nWatch for more information to come!
URL:https://paxchristi-maine.org/event/pax-christi-maine-spring-assembly-2/
LOCATION:Zoom
END:VEVENT
END:VCALENDAR