BEGIN:VCALENDAR
VERSION:2.0
PRODID:-//PAX CHRISTI MAINE - ECPv6.15.20//NONSGML v1.0//EN
CALSCALE:GREGORIAN
METHOD:PUBLISH
X-ORIGINAL-URL:https://paxchristi-maine.org
X-WR-CALDESC:Events for PAX CHRISTI MAINE
REFRESH-INTERVAL;VALUE=DURATION:PT1H
X-Robots-Tag:noindex
X-PUBLISHED-TTL:PT1H
BEGIN:VTIMEZONE
TZID:UTC
BEGIN:STANDARD
TZOFFSETFROM:+0000
TZOFFSETTO:+0000
TZNAME:UTC
DTSTART:20250101T000000
END:STANDARD
END:VTIMEZONE
BEGIN:VEVENT
DTSTART;TZID=UTC:20260430T190000
DTEND;TZID=UTC:20260430T201500
DTSTAMP:20260425T130035
CREATED:20260420T133910Z
LAST-MODIFIED:20260424T125951Z
UID:3632-1777575600-1777580100@paxchristi-maine.org
SUMMARY:April PAX Community Conversation
DESCRIPTION:PAX COMMUNIT Y CONVERSATION \nThursday\, April 30\, 2026 \n7:00-8:15 p.m. (Zoom) \nJOIN US! \n“Finding Authentic Community in our Church” \nWe invite you to join a conversation about your experience of community in your local \nparish or faith tradition. \nAuthentic community provides a sense of belonging; brings people together; offers \nmutual support; often reflects a common vision; is intentionally inclusive and welcoming\, \ndemonstrates respect for all people and their views and more… \nIn his public life and in his writings\, Rev. Dr. Martin Luther King\, Jr. shared his vision of \na Beloved Community\, one that recognizes and honors the image of God in every human \nbeing. \n****** \nHow/where do we find that in our parishes? How can we create community given the \nclustering of churches within our diocese? How do we navigate the divisions which exist \ndue to different understandings of Christian discipleship? What opportunities exist to \nstrengthen collaboration between clergy and laity? \nPlease RSVP to Mary Ellen at memquinn@peoplepc.com by April 29th \nto receive the zoom link.
URL:https://paxchristi-maine.org/event/april-pax-community-conversation/
LOCATION:Zoom
END:VEVENT
BEGIN:VEVENT
DTSTART;TZID=UTC:20260517T140000
DTEND;TZID=UTC:20260517T170000
DTSTAMP:20260425T130035
CREATED:20260325T184234Z
LAST-MODIFIED:20260325T184234Z
UID:3629-1779026400-1779037200@paxchristi-maine.org
SUMMARY:Pax Christi Maine Retreat - Living the Nonviolent Life #3
DESCRIPTION:We will meet again on Sunday\, May 17 from 2:00 – 5:00 pm on Zoom to learn\, pray\, and share about living the nonviolent life.  We continue to base these retreats on Fr John Dear’s book\, Living the Nonviolent Life. \nWatch this space for more details.
URL:https://paxchristi-maine.org/event/pax-christi-maine-retreat-living-the-nonviolent-life-3/
LOCATION:Zoom
END:VEVENT
BEGIN:VEVENT
DTSTART;TZID=UTC:20260530T150000
DTEND;TZID=UTC:20260530T183000
DTSTAMP:20260425T130035
CREATED:20260420T134749Z
LAST-MODIFIED:20260424T125914Z
UID:3636-1780153200-1780165800@paxchristi-maine.org
SUMMARY:Pax Christi Maine Spring Assembly
DESCRIPTION:Join us at our spring assembly annual meeting from 3:00 – 6:30. \n  \nAt 4:30\, we will welcome Paul K. Chappell of the Peace Literacy Institute.  Paul will speak on the theme of “Empowering Ourselves and Others for the Journey Toward Peace”.  All are welcome! \nWatch for more information to come!
URL:https://paxchristi-maine.org/event/pax-christi-maine-spring-assembly-2/
LOCATION:Zoom
END:VEVENT
END:VCALENDAR